View In:
ArcGIS JavaScript
ArcGIS Online Map Viewer
ArcGIS Earth
Service Description: Radiometric Terrain Corrected (RTC) product in VV polarization generated in power scale at 30 meter pixel spacing from Sentinel-1 SAR imagery, processed by ASF. Values for the VV polarization are commonly driven by surface roughness and/or soil moisture, with rougher surfaces and higher soil moisture returning higher backscatter values. Surface water appears very dark under calm conditions, as the signal bounces off the surface away from the sensor.
Name: ASF_SampleData/RTC_PowerScale
Description: Radiometric Terrain Corrected (RTC) product in VV polarization generated in power scale at 30 meter pixel spacing from Sentinel-1 SAR imagery, processed by ASF. Values for the VV polarization are commonly driven by surface roughness and/or soil moisture, with rougher surfaces and higher soil moisture returning higher backscatter values. Surface water appears very dark under calm conditions, as the signal bounces off the surface away from the sensor.
Single Fused Map Cache: false
Extent:
XMin: -1.3369322588100001E7
YMin: 4821441.291199997
XMax: -1.2980522588100001E7
YMax: 5130243.291199997
Spatial Reference: 102100
(3857)
LatestVCSWkid(0)
Initial Extent:
XMin: -1.3369322588100001E7
YMin: 4821441.291199997
XMax: -1.2980522588100001E7
YMax: 5130243.291199997
Spatial Reference: 102100
(3857)
LatestVCSWkid(0)
Full Extent:
XMin: -1.3369322588100001E7
YMin: 4821441.291199997
XMax: -1.2980522588100001E7
YMax: 5130243.291199997
Spatial Reference: 102100
(3857)
LatestVCSWkid(0)
Pixel Size X: 3.0
Pixel Size Y: 3.0
Band Count: 1
Pixel Type: F32
RasterFunction Infos: {"rasterFunctionInfos": [
{
"name": "None",
"description": "Make a Raster or Raster Dataset into a Function Raster Dataset.",
"help": ""
},
{
"name": "Stretch 2SD with DRA",
"description": "Applies a 2 standard deviation stretch to an image",
"help": ""
}
]}
Mensuration Capabilities: Basic
Inspection Capabilities:
Has Histograms: true
Has Colormap: false
Has Multi Dimensions : false
Rendering Rule:
Min Scale: 0
Max Scale: 0
Copyright Text: RTC products processed by ASF DAAC HyP3 2023 using GAMMA software. Contains modified Copernicus Sentinel data 2023, processed by ESA.
Service Data Type: esriImageServiceDataTypeGeneric
Min Values: 2.087701577693224E-4
Max Values: 390.7928161621094
Mean Values: 0.053303899756826145
Standard Deviation Values: 0.0947269049928891
Object ID Field: OBJECTID
Fields:
-
OBJECTID
(
type: esriFieldTypeOID, alias: OBJECTID
)
-
Shape
(
type: esriFieldTypeGeometry, alias: Shape
)
-
Name
(
type: esriFieldTypeString, alias: Name, length: 200
)
-
MinPS
(
type: esriFieldTypeDouble, alias: MinPS
)
-
MaxPS
(
type: esriFieldTypeDouble, alias: MaxPS
)
-
LowPS
(
type: esriFieldTypeDouble, alias: LowPS
)
-
HighPS
(
type: esriFieldTypeDouble, alias: HighPS
)
-
Category
(
type: esriFieldTypeInteger, alias: Category
, Coded Values:
[0: Unknown]
, [1: Primary]
, [2: Overview]
, ...6 more...
)
-
Tag
(
type: esriFieldTypeString, alias: Tag, length: 100
)
-
CenterX
(
type: esriFieldTypeDouble, alias: CenterX
)
-
CenterY
(
type: esriFieldTypeDouble, alias: CenterY
)
-
ZOrder
(
type: esriFieldTypeInteger, alias: ZOrder
)
Default Mosaic Method: Center
Allowed Mosaic Methods: Center,NorthWest,Nadir,LockRaster,ByAttribute,Seamline,None
SortField:
SortValue: null
Mosaic Operator: First
Default Compression Quality: 80
Default Resampling Method: Nearest
Max Record Count: 2000
Max Image Height: 5000
Max Image Width: 5000
Max Download Image Count: 50
Max Mosaic Image Count: 50
Allow Raster Function: true
Allow Copy: true
Allow Analysis: true
Allow Compute TiePoints: false
Supports Statistics: true
Supports Advanced Queries: true
Use StandardizedQueries: true
Raster Type Infos:
Name: Raster Dataset
Description: Supports all ArcGIS Raster Datasets
Help:
Has Raster Attribute Table: false
Edit Fields Info: null
Ownership Based AccessControl For Rasters: null
Child Resources:
Info
Histograms
Statistics
Key Properties
Legend
Raster Function Infos
Supported Operations:
Export Image
Query
Identify
Measure
Compute Histograms
Compute Statistics Histograms
Get Samples
Compute Class Statistics
Query GPS Info
Find Images
Image to Map
Map to Image
Measure from Image
Image to Map Multiray
Query Boundary
Compute Pixel Location
Compute Angles
Validate
Project