View In:
ArcGIS JavaScript
ArcGIS Online Map Viewer
ArcGIS Earth
Service Description: Radiometric Terrain Corrected (RTC) products in VH polarization generated from Sentinel-1 SAR imagery over the Hindu Kush Himalayan (HKH) region, processed by ASF.
Name: HKH/HKH_RTC_VH
Description: Radiometric Terrain Corrected (RTC) products in VH polarization generated from Sentinel-1 SAR imagery over the Hindu Kush Himalayan (HKH) region, processed by ASF. Values for the VH (cross-polarized) polarization are generally driven by volume scattering, with more complex volume scatterers (such as dense vegetation) returning higher backscatter values. Surface water generally appears very dark, as it is predominantly a surface scatterer; most returns remain in the primary polarization.
Single Fused Map Cache: false
Extent:
XMin: 8480068.958
YMin: 2241216.2776999995
XMax: 1.1078068958E7
YMax: 3719742.2776999995
Spatial Reference: 102100
(3857)
LatestVCSWkid(0)
Initial Extent:
XMin: 8480068.958
YMin: 2241216.2776999995
XMax: 1.1078068958E7
YMax: 3719742.2776999995
Spatial Reference: 102100
(3857)
LatestVCSWkid(0)
Full Extent:
XMin: 8480068.958
YMin: 2241216.2776999995
XMax: 1.1078068958E7
YMax: 3719742.2776999995
Spatial Reference: 102100
(3857)
LatestVCSWkid(0)
Time Info:
Start Time Field: StartDate
End Time Field: EndDate
Time Extent:
[2023/01/01 03:48:14 UTC, 2025/08/17 20:47:28 UTC]
Time Reference:
N/A
Pixel Size X: 3.0
Pixel Size Y: 3.0
Band Count: 1
Pixel Type: F32
RasterFunction Infos: {"rasterFunctionInfos": [
{
"name": "Sentinel-1 RTC dB Stretch",
"description": "Sentinel-1 RTC data in dB scale with a stretch applied",
"help": "Converts pixel values from power to dB scale, and applies a min-max stretch from -25 to 0."
},
{
"name": "Sentinel-1 RTC Power",
"description": "Sentinel-1 RTC data in Power scale",
"help": "Displays original pixel values in Power scale."
},
{
"name": "Sentinel-1 RTC Amplitude",
"description": "Sentinel-1 RTC data in Amplitude scale",
"help": "Converts pixel values from power to amplitude scale by taking the square root of the power values."
},
{
"name": "Sentinel-1 RTC dB",
"description": "Sentinel-1 RTC data in dB scale",
"help": "Converts pixel values from power to dB scale by multiplying the log10 of the power values by 10."
},
{
"name": "None",
"description": "Make a Raster or Raster Dataset into a Function Raster Dataset.",
"help": ""
}
]}
Mensuration Capabilities: Basic
Inspection Capabilities:
Has Histograms: false
Has Colormap: false
Has Multi Dimensions : false
Rendering Rule:
Min Scale: 0
Max Scale: 0
Copyright Text: RTC products processed by ASF DAAC HyP3 using GAMMA software. Contains modified Copernicus Sentinel data, processed by ESA.
Service Data Type: esriImageServiceDataTypeGeneric
Min Values: N/A
Max Values: N/A
Mean Values: N/A
Standard Deviation Values: N/A
Object ID Field: OBJECTID
Fields:
-
OBJECTID
(
type: esriFieldTypeOID, alias: OBJECTID
)
-
Shape
(
type: esriFieldTypeGeometry, alias: Shape
)
-
Name
(
type: esriFieldTypeString, alias: Name, length: 200
)
-
MinPS
(
type: esriFieldTypeDouble, alias: MinPS
)
-
MaxPS
(
type: esriFieldTypeDouble, alias: MaxPS
)
-
LowPS
(
type: esriFieldTypeDouble, alias: LowPS
)
-
HighPS
(
type: esriFieldTypeDouble, alias: HighPS
)
-
Category
(
type: esriFieldTypeInteger, alias: Category
, Coded Values:
[0: Unknown]
, [1: Primary]
, [2: Overview]
, ...6 more...
)
-
Tag
(
type: esriFieldTypeString, alias: Tag, length: 100
)
-
GroupName
(
type: esriFieldTypeString, alias: GroupName, length: 100
)
-
ProductName
(
type: esriFieldTypeString, alias: ProductName, length: 100
)
-
CenterX
(
type: esriFieldTypeDouble, alias: CenterX
)
-
CenterY
(
type: esriFieldTypeDouble, alias: CenterY
)
-
ZOrder
(
type: esriFieldTypeInteger, alias: ZOrder
)
-
StartDate
(
type: esriFieldTypeDate, alias: StartDate, length: 8
)
-
EndDate
(
type: esriFieldTypeDate, alias: EndDate, length: 8
)
-
DownloadURL
(
type: esriFieldTypeString, alias: DownloadURL, length: 255
)
Default Mosaic Method: ByAttribute
Allowed Mosaic Methods: ByAttribute,Center,NorthWest,Nadir,LockRaster,Seamline,None
SortField: StartDate
SortValue: 1/1/2050 12:00:00 AM
Mosaic Operator: First
Default Compression Quality: 80
Default Resampling Method: Nearest
Max Record Count: 2000
Max Image Height: 5000
Max Image Width: 5000
Max Download Image Count: 50
Max Mosaic Image Count: 50
Allow Raster Function: true
Allow Copy: true
Allow Analysis: true
Allow Compute TiePoints: false
Supports Statistics: true
Supports Advanced Queries: true
Use StandardizedQueries: true
Raster Type Infos:
Name: Raster Dataset
Description: Supports all ArcGIS Raster Datasets
Help:
Has Raster Attribute Table: false
Edit Fields Info: null
Ownership Based AccessControl For Rasters: null
Child Resources:
Info
Statistics
Key Properties
Legend
Raster Function Infos
Supported Operations:
Export Image
Query
Identify
Measure
Compute Histograms
Compute Statistics Histograms
Get Samples
Compute Class Statistics
Query GPS Info
Find Images
Image to Map
Map to Image
Measure from Image
Image to Map Multiray
Query Boundary
Compute Pixel Location
Compute Angles
Validate
Project